BEGIN:VCALENDAR

VERSION:2.0

PRODID:-//hacksw/handcal//NONSGML v1.0//EN

BEGIN:VEVENT

UID:8706e3c1fce0538cf0e32f9365e8b281

DTSTAMP:20190228T222823Z

DTSTART:20190302T090000

DTEND:20190302T093000

SUMMARY:20269926 - WAUCHOPE, 4 Weismantle Street

LOCATION:WAUCHOPE, 4 Weismantle Street

END:VEVENT

END:VCALENDAR