BEGIN:VCALENDAR

VERSION:2.0

PRODID:-//hacksw/handcal//NONSGML v1.0//EN

BEGIN:VEVENT

UID:bde84a22183c3f5c8c57e42a060b07cb

DTSTAMP:20190228T222913Z

DTSTART:20190302T100000

DTEND:20190302T103000

SUMMARY:20304378 - WAUCHOPE, 36 Rodlee Street

LOCATION:WAUCHOPE, 36 Rodlee Street

END:VEVENT

END:VCALENDAR