BEGIN:VCALENDAR

VERSION:2.0

PRODID:-//hacksw/handcal//NONSGML v1.0//EN

BEGIN:VEVENT

UID:0a64b170fa1025502f8225b1d40de0e1

DTSTAMP:20210226T031947Z

DTSTART:20210227T100000

DTEND:20210227T103000

SUMMARY:L5157643 - WAUCHOPE, 12 Reservoir Place

LOCATION:WAUCHOPE, 12 Reservoir Place

END:VEVENT

END:VCALENDAR