BEGIN:VCALENDAR

VERSION:2.0

PRODID:-//hacksw/handcal//NONSGML v1.0//EN

BEGIN:VEVENT

UID:40c23b69c0c75bf849aad7598525d039

DTSTAMP:20210226T031953Z

DTSTART:20210227T100000

DTEND:20210227T103000

SUMMARY:L5158804 - WAUCHOPE, 54A Colonial Circuit

LOCATION:WAUCHOPE, 54A Colonial Circuit

END:VEVENT

END:VCALENDAR