BEGIN:VCALENDAR

VERSION:2.0

PRODID:-//hacksw/handcal//NONSGML v1.0//EN

BEGIN:VEVENT

UID:5c99810c88235756810b3782b0f38045

DTSTAMP:20210226T032023Z

DTSTART:20210227T110000

DTEND:20210227T113000

SUMMARY:22715235 - LOGANS CROSSING, 39 Kingsford Road

LOCATION:LOGANS CROSSING, 39 Kingsford Road

END:VEVENT

END:VCALENDAR