BEGIN:VCALENDAR

VERSION:2.0

PRODID:-//hacksw/handcal//NONSGML v1.0//EN

BEGIN:VEVENT

UID:e881e71a17c7e63fbb51204c0381d59b

DTSTAMP:20210226T032100Z

DTSTART:20210227T110000

DTEND:20210227T113000

SUMMARY:L5158130 - BEECHWOOD, 21 Willow Dene Avenue

LOCATION:BEECHWOOD, 21 Willow Dene Avenue

END:VEVENT

END:VCALENDAR