BEGIN:VCALENDAR

VERSION:2.0

PRODID:-//hacksw/handcal//NONSGML v1.0//EN

BEGIN:VEVENT

UID:9d19e382e5ace9d6f40c093aff5069e8

DTSTAMP:20210226T033611Z

DTSTART:20210227T090000

DTEND:20210227T093000

SUMMARY:L5157683 - WAUCHOPE, 84 Colonial Circuit

LOCATION:WAUCHOPE, 84 Colonial Circuit

END:VEVENT

END:VCALENDAR