BEGIN:VCALENDAR

VERSION:2.0

PRODID:-//hacksw/handcal//NONSGML v1.0//EN

BEGIN:VEVENT

UID:7e0c5ca3540f5aee0591fcd6761fc987

DTSTAMP:20210226T033717Z

DTSTART:20210227T120000

DTEND:20210227T123000

SUMMARY:L5159075 - BEECHWOOD, 91 West Frazers Creek Road

LOCATION:BEECHWOOD, 91 West Frazers Creek Road

END:VEVENT

END:VCALENDAR